BEGIN:VCALENDAR
VERSION:2.0
PRODID:-//CVMA® OH 12-2 - ECPv6.15.18//NONSGML v1.0//EN
CALSCALE:GREGORIAN
METHOD:PUBLISH
X-WR-CALNAME:CVMA® OH 12-2
X-ORIGINAL-URL:https://cvma12-2.com
X-WR-CALDESC:Events for CVMA® OH 12-2
REFRESH-INTERVAL;VALUE=DURATION:PT1H
X-Robots-Tag:noindex
X-PUBLISHED-TTL:PT1H
BEGIN:VTIMEZONE
TZID:UTC
BEGIN:STANDARD
TZOFFSETFROM:+0000
TZOFFSETTO:+0000
TZNAME:UTC
DTSTART:20240101T000000
END:STANDARD
END:VTIMEZONE
BEGIN:VEVENT
DTSTART;TZID=UTC:20250503T120000
DTEND;TZID=UTC:20250503T160000
DTSTAMP:20260421T221830
CREATED:20250201T135724Z
LAST-MODIFIED:20250402T011342Z
UID:23364561-1746273600-1746288000@cvma12-2.com
SUMMARY:Ohio State Meeting Hosted by 12-4
DESCRIPTION:**Venue Change** The State Meeting will now be held at Lebanon Eagles. \n209 W Main Street \nLebanon\, OH 45036
URL:https://cvma12-2.com/event/ohio-state-meeting-hosted-by-12-4/
LOCATION:OH
END:VEVENT
END:VCALENDAR