BEGIN:VCALENDAR
VERSION:2.0
PRODID:-//CVMA® OH 12-2 - ECPv6.15.18//NONSGML v1.0//EN
CALSCALE:GREGORIAN
METHOD:PUBLISH
X-WR-CALNAME:CVMA® OH 12-2
X-ORIGINAL-URL:https://cvma12-2.com
X-WR-CALDESC:Events for CVMA® OH 12-2
REFRESH-INTERVAL;VALUE=DURATION:PT1H
X-Robots-Tag:noindex
X-PUBLISHED-TTL:PT1H
BEGIN:VTIMEZONE
TZID:UTC
BEGIN:STANDARD
TZOFFSETFROM:+0000
TZOFFSETTO:+0000
TZNAME:UTC
DTSTART:20230101T000000
END:STANDARD
END:VTIMEZONE
BEGIN:VEVENT
DTSTART;VALUE=DATE:20240809
DTEND;VALUE=DATE:20240812
DTSTAMP:20260422T214538
CREATED:20240715T204519Z
LAST-MODIFIED:20240715T204519Z
UID:23364471-1723161600-1723420799@cvma12-2.com
SUMMARY:VFW National Home Visit
DESCRIPTION:Ride with the VFW to VFW Ohio Day to visit the VFW National Home.  The VFW National Home is dedicated to helping Families find a healing calm in a tranquil\, rural\, small-town community. Tree-lined streets connect 42 single-family homes with common areas like our gym\, library\, computer and science labs\, daycare center\, playgrounds\, fishing pond\, hiking trails and more.
URL:https://cvma12-2.com/event/vfw-national-home-visit/
LOCATION:VFW National Home Eaton Rapids\, MI\, Eaton Rapids\, MI\, United States
CATEGORIES:Support Events
ATTACH;FMTTYPE=image/jpeg:https://cvma12-2.com/wp-content/uploads/2024/07/VFW-WebsiteSocialShareImage.jpg
END:VEVENT
BEGIN:VEVENT
DTSTART;TZID=UTC:20240721T110000
DTEND;TZID=UTC:20240721T123000
DTSTAMP:20260422T214538
CREATED:20240715T202617Z
LAST-MODIFIED:20240715T202741Z
UID:23364464-1721559600-1721565000@cvma12-2.com
SUMMARY:CVMA 12-2 Monthly Meeting
DESCRIPTION:Monthly meeting is for CVMA members.  Those wanting to learn more about the CVMA are encouraged to come before or after our meeting.  Meetings are held the 3rd weekend of each month.
URL:https://cvma12-2.com/event/cvma-12-2-monthly-meeting/
LOCATION:VFW Post 5354\, 6653 Epworth Road\, Loveland\, OH\, 45140\, United States
CATEGORIES:Chapter Meetings
ATTACH;FMTTYPE=image/jpeg:https://cvma12-2.com/wp-content/uploads/2024/02/FillableSkullyforODL-122-3.jpg
ORGANIZER;CN="CVMA12-2.COM":MAILTO:webmaster@cvma12-2.com
END:VEVENT
BEGIN:VEVENT
DTSTART;VALUE=DATE:20240618
DTEND;VALUE=DATE:20240624
DTSTAMP:20260422T214538
CREATED:20240618T083015Z
LAST-MODIFIED:20240710T180141Z
UID:23364431-1718668800-1719187199@cvma12-2.com
SUMMARY:CVMA National Rochester\, MN
DESCRIPTION:CVMA Nationals  Rochester MN\n						Combat Veterans Motorcycle Yearly National Rally.  June 18th-23rd
URL:https://cvma12-2.com/event/23364431/
LOCATION:OH
END:VEVENT
END:VCALENDAR