BEGIN:VCALENDAR
VERSION:2.0
PRODID:-//CVMA® OH 12-2 - ECPv6.15.18//NONSGML v1.0//EN
CALSCALE:GREGORIAN
METHOD:PUBLISH
X-WR-CALNAME:CVMA® OH 12-2
X-ORIGINAL-URL:https://cvma12-2.com
X-WR-CALDESC:Events for CVMA® OH 12-2
REFRESH-INTERVAL;VALUE=DURATION:PT1H
X-Robots-Tag:noindex
X-PUBLISHED-TTL:PT1H
BEGIN:VTIMEZONE
TZID:UTC
BEGIN:STANDARD
TZOFFSETFROM:+0000
TZOFFSETTO:+0000
TZNAME:UTC
DTSTART:20240101T000000
END:STANDARD
END:VTIMEZONE
BEGIN:VEVENT
DTSTART;TZID=UTC:20250517T080000
DTEND;TZID=UTC:20250517T170000
DTSTAMP:20260422T013846
CREATED:20250201T140300Z
LAST-MODIFIED:20250201T140300Z
UID:23364563-1747468800-1747501200@cvma12-2.com
SUMMARY:12-1 Annual Ride
DESCRIPTION:Details TBD
URL:https://cvma12-2.com/event/12-1-annual-ride/
LOCATION:OH
END:VEVENT
BEGIN:VEVENT
DTSTART;TZID=UTC:20250524T113000
DTEND;TZID=UTC:20250524T170000
DTSTAMP:20260422T013846
CREATED:20250206T004518Z
LAST-MODIFIED:20250206T005715Z
UID:23364593-1748086200-1748106000@cvma12-2.com
SUMMARY:OHIO's 2nd Prison Run for Incarcerated Veterans
DESCRIPTION:KSU @ 12:40 from the AMVETS in Circleville then ride to Chillicothe.   If you were not able to make this last year I highly encourage you to try and make it this year. Last years ride was an awesome event for great food\, great riding\, and an overall great event. \nWe got to ride on the service road through Chillicothe Correctional Institute where incarcerated veterans were lined up to be reminded that they haven’t been forgotten.
URL:https://cvma12-2.com/event/ohios-2nd-prison-run-for-incarcerated-veterans/
LOCATION:OH
ATTACH;FMTTYPE=image/jpeg:https://cvma12-2.com/wp-content/uploads/2025/02/Ohios-1st-Prison-Run.jpg
END:VEVENT
BEGIN:VEVENT
DTSTART;TZID=UTC:20250607T100000
DTEND;TZID=UTC:20250607T230000
DTSTAMP:20260422T013846
CREATED:20250106T165008Z
LAST-MODIFIED:20250106T165147Z
UID:23364543-1749290400-1749337200@cvma12-2.com
SUMMARY:CVMA® OH 12-2 Annual Event
DESCRIPTION:Join us June 7th 2025 at VFW Branch Hill Post 5354 in Loveland OH. \nLive Music\, Raffles\, Live Auction\, Mud Wrestling \n 
URL:https://cvma12-2.com/event/12-2annualbash/
LOCATION:VFW Post 5354\, 6653 Epworth Road\, Loveland\, OH\, 45140\, United States
CATEGORIES:Fun Times!,Sanctioned Events
ATTACH;FMTTYPE=image/jpeg:https://cvma12-2.com/wp-content/uploads/2024/02/FillableSkullyforODL-122-3-1.jpg
ORGANIZER;CN="CVMA12-2.COM":MAILTO:webmaster@cvma12-2.com
END:VEVENT
BEGIN:VEVENT
DTSTART;TZID=UTC:20250624T080000
DTEND;TZID=UTC:20250628T170000
DTSTAMP:20260422T013846
CREATED:20250201T143531Z
LAST-MODIFIED:20250201T143531Z
UID:23364573-1750752000-1751130000@cvma12-2.com
SUMMARY:National Meeting In Athens\, GA
DESCRIPTION:Details TBD
URL:https://cvma12-2.com/event/national-meeting-in-athens-ga/
LOCATION:OH
END:VEVENT
BEGIN:VEVENT
DTSTART;TZID=UTC:20250712T080000
DTEND;TZID=UTC:20250712T170000
DTSTAMP:20260422T013846
CREATED:20250201T143928Z
LAST-MODIFIED:20250201T143928Z
UID:23364575-1752307200-1752339600@cvma12-2.com
SUMMARY:12-8 Annual Charity Event
DESCRIPTION:Details TBD
URL:https://cvma12-2.com/event/12-8-annual-charity-event/
LOCATION:OH
END:VEVENT
BEGIN:VEVENT
DTSTART;TZID=UTC:20250719T080000
DTEND;TZID=UTC:20250719T170000
DTSTAMP:20260422T013846
CREATED:20250201T145618Z
LAST-MODIFIED:20250201T145618Z
UID:23364577-1752912000-1752944400@cvma12-2.com
SUMMARY:12-3 Run To The Wall
DESCRIPTION:Details TBD
URL:https://cvma12-2.com/event/12-3-run-to-the-wall/
LOCATION:OH
END:VEVENT
BEGIN:VEVENT
DTSTART;TZID=UTC:20250726T080000
DTEND;TZID=UTC:20250726T170000
DTSTAMP:20260422T013846
CREATED:20250201T150558Z
LAST-MODIFIED:20250201T150558Z
UID:23364579-1753516800-1753549200@cvma12-2.com
SUMMARY:12-9 Black Swamp River Ride
DESCRIPTION:Details TBD
URL:https://cvma12-2.com/event/12-9-black-swamp-river-ride/
LOCATION:OH
END:VEVENT
BEGIN:VEVENT
DTSTART;TZID=UTC:20250816T080000
DTEND;TZID=UTC:20250816T170000
DTSTAMP:20260422T013846
CREATED:20250201T152041Z
LAST-MODIFIED:20250201T152041Z
UID:23364581-1755331200-1755363600@cvma12-2.com
SUMMARY:12-6 Honor Flight Run
DESCRIPTION:Details TBD
URL:https://cvma12-2.com/event/12-6-honor-flight-run/
LOCATION:OH
END:VEVENT
BEGIN:VEVENT
DTSTART;TZID=UTC:20250911T080000
DTEND;TZID=UTC:20250913T170000
DTSTAMP:20260422T013846
CREATED:20250201T153611Z
LAST-MODIFIED:20250201T153611Z
UID:23364585-1757577600-1757782800@cvma12-2.com
SUMMARY:Region IV Rally
DESCRIPTION:Details TBD
URL:https://cvma12-2.com/event/region-iv-rally/
LOCATION:OH
END:VEVENT
BEGIN:VEVENT
DTSTART;TZID=UTC:20250927T080000
DTEND;TZID=UTC:20250927T170000
DTSTAMP:20260422T013846
CREATED:20250201T154001Z
LAST-MODIFIED:20250201T154001Z
UID:23364587-1758960000-1758992400@cvma12-2.com
SUMMARY:12-4 Sanctioned Event
DESCRIPTION:Details TBD
URL:https://cvma12-2.com/event/12-4-sanctioned-event/
LOCATION:OH
END:VEVENT
BEGIN:VEVENT
DTSTART;TZID=UTC:20260323T110000
DTEND;TZID=UTC:20260323T130000
DTSTAMP:20260422T013846
CREATED:20260226T162548Z
LAST-MODIFIED:20260325T185205Z
UID:23364845-1774263600-1774270800@cvma12-2.com
SUMMARY:Chapter Meeting
DESCRIPTION:Closed meeting to CVMA Members.  if you are wanting to join the CVMA\, feel free to join us and bring your DD214.
URL:https://cvma12-2.com/event/chapter-meeting/
LOCATION:VFW Post 5354\, 6653 Epworth Road\, Loveland\, OH\, 45140\, United States
ATTACH;FMTTYPE=image/jpeg:https://cvma12-2.com/wp-content/uploads/2024/02/FillableSkullyforODL-122-3-1.jpg
ORGANIZER;CN="CVMA12-2.COM":MAILTO:webmaster@cvma12-2.com
END:VEVENT
BEGIN:VEVENT
DTSTART;TZID=UTC:20260411T110000
DTEND;TZID=UTC:20260411T130000
DTSTAMP:20260422T013846
CREATED:20260312T235411Z
LAST-MODIFIED:20260312T235411Z
UID:23364909-1775905200-1775912400@cvma12-2.com
SUMMARY:CVMA Monthly Meeting
DESCRIPTION:If you would like to join the CVMA\, bring your proof of service and you can apply\,  CVMA Members welcome from all chapters
URL:https://cvma12-2.com/event/cvma-monthly-meeting/
LOCATION:VFW Post 5354\, 6653 Epworth Road\, Loveland\, OH\, 45140\, United States
CATEGORIES:Chapter Meetings
ATTACH;FMTTYPE=image/jpeg:https://cvma12-2.com/wp-content/uploads/2024/02/FillableSkullyforODL-122-3-1.jpg
ORGANIZER;CN="CVMA12-2.COM":MAILTO:webmaster@cvma12-2.com
END:VEVENT
BEGIN:VEVENT
DTSTART;VALUE=DATE:20260602
DTEND;VALUE=DATE:20260608
DTSTAMP:20260422T013846
CREATED:20260226T163156Z
LAST-MODIFIED:20260226T164514Z
UID:23364847-1780358400-1780876799@cvma12-2.com
SUMMARY:CVMA® Nationals
DESCRIPTION:Annual Event where riders from across the United states gather for camaraderie and General Business.  Queen City chapter members will be gathering at this event.
URL:https://cvma12-2.com/event/cvma-nationals/
LOCATION:CVMA Syracuse NY\, 6301 NY-298\, Syracuse\, 13057\, United States
CATEGORIES:Sanctioned Events
ATTACH;FMTTYPE=image/avif:https://cvma12-2.com/wp-content/uploads/2026/02/CVMA26_V2-png.avif
ORGANIZER;CN="CVMA12-2.COM":MAILTO:webmaster@cvma12-2.com
END:VEVENT
BEGIN:VEVENT
DTSTART;TZID=UTC:20260821T170000
DTEND;TZID=UTC:20260821T210000
DTSTAMP:20260422T013846
CREATED:20260226T173651Z
LAST-MODIFIED:20260226T173651Z
UID:23364864-1787331600-1787346000@cvma12-2.com
SUMMARY:Queen City Chapter Meet and Greet
DESCRIPTION:Details to come
URL:https://cvma12-2.com/event/queen-city-chapter-meet-and-greet/
LOCATION:VFW Post 5354\, 6653 Epworth Road\, Loveland\, OH\, 45140\, United States
CATEGORIES:Fun Times!,Sanctioned Events
ATTACH;FMTTYPE=image/png:https://cvma12-2.com/wp-content/uploads/2026/02/annual-event-cvma.png
ORGANIZER;CN="CVMA12-2.COM":MAILTO:webmaster@cvma12-2.com
END:VEVENT
BEGIN:VEVENT
DTSTART;TZID=UTC:20260822T100000
DTEND;TZID=UTC:20260822T163000
DTSTAMP:20260422T013846
CREATED:20260226T162257Z
LAST-MODIFIED:20260226T162257Z
UID:23364843-1787392800-1787416200@cvma12-2.com
SUMMARY:CVMA® OH 12-2 Annual Event
DESCRIPTION:Open to all Riders and Patriots\, this is an event you won’t want to miss.  Stay Up to date on the event site CLICK HERE \nPre-Order Ride tickets\, Raffle tickets and Queen city Combat Vets swag online!
URL:https://cvma12-2.com/event/cvma-oh-12-2-annual-event/
LOCATION:VFW Post 5354\, 6653 Epworth Road\, Loveland\, OH\, 45140\, United States
CATEGORIES:Sanctioned Events
ATTACH;FMTTYPE=image/png:https://cvma12-2.com/wp-content/uploads/2026/02/DBE82CB6-B456-4D69-BE55-1114AEBCE9D7-1.png
ORGANIZER;CN="CVMA12-2.COM":MAILTO:webmaster@cvma12-2.com
END:VEVENT
BEGIN:VEVENT
DTSTART;VALUE=DATE:20260827
DTEND;VALUE=DATE:20260831
DTSTAMP:20260422T013846
CREATED:20260226T164142Z
LAST-MODIFIED:20260226T164142Z
UID:23364855-1787788800-1788134399@cvma12-2.com
SUMMARY:Swiss Wine Festival
DESCRIPTION:One of Indiana’s best fairs and an awesome ride to get there.  Come out and meet us for our hottest raffle items and meet our vets.
URL:https://cvma12-2.com/event/swiss-wine-festival/
LOCATION:Vevay Indiana\, Vevay\, IN\, United States
CATEGORIES:Support Events
ATTACH;FMTTYPE=image/webp:https://cvma12-2.com/wp-content/uploads/2026/02/rsw_1200cg_true.webp
ORGANIZER;CN="CVMA12-2.COM":MAILTO:webmaster@cvma12-2.com
END:VEVENT
BEGIN:VEVENT
DTSTART;VALUE=DATE:20260930
DTEND;VALUE=DATE:20261004
DTSTAMP:20260422T013846
CREATED:20260226T163718Z
LAST-MODIFIED:20260226T163718Z
UID:23364851-1790726400-1791071999@cvma12-2.com
SUMMARY:Aurora Farmers Fair
DESCRIPTION:Join the Queen City chapter at the Aurora Farmers fair.  Southeast Indiana happens to be a group of our members and we love to represent here every year.  Pass by and buy the latest raffle tickets and see how you can join if you qualify.
URL:https://cvma12-2.com/event/aurora-farmers-fair/
LOCATION:Aurora Indiana\, Aurora\, IN\, United States
ATTACH;FMTTYPE=image/png:https://cvma12-2.com/wp-content/uploads/2026/02/aff_header_logo2.png
ORGANIZER;CN="CVMA12-2.COM":MAILTO:webmaster@cvma12-2.com
END:VEVENT
END:VCALENDAR