BEGIN:VCALENDAR
VERSION:2.0
PRODID:-//CVMA® OH 12-2 - ECPv6.15.18//NONSGML v1.0//EN
CALSCALE:GREGORIAN
METHOD:PUBLISH
X-ORIGINAL-URL:https://cvma12-2.com
X-WR-CALDESC:Events for CVMA® OH 12-2
REFRESH-INTERVAL;VALUE=DURATION:PT1H
X-Robots-Tag:noindex
X-PUBLISHED-TTL:PT1H
BEGIN:VTIMEZONE
TZID:UTC
BEGIN:STANDARD
TZOFFSETFROM:+0000
TZOFFSETTO:+0000
TZNAME:UTC
DTSTART:20230101T000000
END:STANDARD
END:VTIMEZONE
BEGIN:VEVENT
DTSTART;VALUE=DATE:20240809
DTEND;VALUE=DATE:20240812
DTSTAMP:20260422T122531
CREATED:20240715T204519Z
LAST-MODIFIED:20240715T204519Z
UID:23364471-1723161600-1723420799@cvma12-2.com
SUMMARY:VFW National Home Visit
DESCRIPTION:Ride with the VFW to VFW Ohio Day to visit the VFW National Home.  The VFW National Home is dedicated to helping Families find a healing calm in a tranquil\, rural\, small-town community. Tree-lined streets connect 42 single-family homes with common areas like our gym\, library\, computer and science labs\, daycare center\, playgrounds\, fishing pond\, hiking trails and more.
URL:https://cvma12-2.com/event/vfw-national-home-visit/
LOCATION:VFW National Home Eaton Rapids\, MI\, Eaton Rapids\, MI\, United States
CATEGORIES:Support Events
ATTACH;FMTTYPE=image/jpeg:https://cvma12-2.com/wp-content/uploads/2024/07/VFW-WebsiteSocialShareImage.jpg
END:VEVENT
BEGIN:VEVENT
DTSTART;TZID=UTC:20240817T110000
DTEND;TZID=UTC:20240817T123000
DTSTAMP:20260422T122531
CREATED:20240817T110013Z
LAST-MODIFIED:20240715T210045Z
UID:23364476-1723892400-1723897800@cvma12-2.com
SUMMARY:CVMA OH 12-2 Chapter Meeting August
DESCRIPTION:CVMA OH 12-2 Monthly Meeting.  Meetings is closed to members only but those seeking to learn more about becoming a member are encouraged to attend before or after our monthly meetings.
URL:https://cvma12-2.com/event/cvma-oh-12-2-chapter-meeting-august/
LOCATION:VFW Post 5354\, 6653 Epworth Road\, Loveland\, OH\, 45140\, United States
CATEGORIES:Chapter Meetings
ATTACH;FMTTYPE=image/jpeg:https://cvma12-2.com/wp-content/uploads/2024/02/FillableSkullyforODL-122-3.jpg
ORGANIZER;CN="CVMA12-2.COM":MAILTO:webmaster@cvma12-2.com
END:VEVENT
BEGIN:VEVENT
DTSTART;VALUE=DATE:20240830
DTEND;VALUE=DATE:20240902
DTSTAMP:20260422T122531
CREATED:20240715T205634Z
LAST-MODIFIED:20240715T205634Z
UID:23364480-1724976000-1725235199@cvma12-2.com
SUMMARY:CVMA KY 1-1 All Patriots Ride
DESCRIPTION:Support the 1st CVMA chapter and join them and 12-2 at their annual event and receive the KY circle patch
URL:https://cvma12-2.com/event/cvma-ky-1-1-all-patriots-ride/
LOCATION:Quality In/ Mainstay Suites\, 1938 Stanton Way\, Lexington\, KY\, 40511\, United States
ATTACH;FMTTYPE=image/jpeg:https://cvma12-2.com/wp-content/uploads/2024/07/450585323_10233400161285498_3341429348971844761_n.jpg
ORGANIZER;CN="CVMA12-2.COM":MAILTO:webmaster@cvma12-2.com
END:VEVENT
END:VCALENDAR