BEGIN:VCALENDAR
VERSION:2.0
PRODID:-//CVMA® OH 12-2 - ECPv6.15.18//NONSGML v1.0//EN
CALSCALE:GREGORIAN
METHOD:PUBLISH
X-WR-CALNAME:CVMA® OH 12-2
X-ORIGINAL-URL:https://cvma12-2.com
X-WR-CALDESC:Events for CVMA® OH 12-2
REFRESH-INTERVAL;VALUE=DURATION:PT1H
X-Robots-Tag:noindex
X-PUBLISHED-TTL:PT1H
BEGIN:VTIMEZONE
TZID:UTC
BEGIN:STANDARD
TZOFFSETFROM:+0000
TZOFFSETTO:+0000
TZNAME:UTC
DTSTART:20230101T000000
END:STANDARD
END:VTIMEZONE
BEGIN:VEVENT
DTSTART;VALUE=DATE:20240830
DTEND;VALUE=DATE:20240902
DTSTAMP:20260422T110636
CREATED:20240715T205634Z
LAST-MODIFIED:20240715T205634Z
UID:23364480-1724976000-1725235199@cvma12-2.com
SUMMARY:CVMA KY 1-1 All Patriots Ride
DESCRIPTION:Support the 1st CVMA chapter and join them and 12-2 at their annual event and receive the KY circle patch
URL:https://cvma12-2.com/event/cvma-ky-1-1-all-patriots-ride/
LOCATION:Quality In/ Mainstay Suites\, 1938 Stanton Way\, Lexington\, KY\, 40511\, United States
ATTACH;FMTTYPE=image/jpeg:https://cvma12-2.com/wp-content/uploads/2024/07/450585323_10233400161285498_3341429348971844761_n.jpg
ORGANIZER;CN="CVMA12-2.COM":MAILTO:webmaster@cvma12-2.com
END:VEVENT
END:VCALENDAR